BEGIN:VCALENDAR
VERSION:2.0
PRODID:-//Lighthouse Retreat Centre - ECPv6.15.20//NONSGML v1.0//EN
CALSCALE:GREGORIAN
METHOD:PUBLISH
X-WR-CALNAME:Lighthouse Retreat Centre
X-ORIGINAL-URL:https://lighthouseretreatcentre.org
X-WR-CALDESC:Events for Lighthouse Retreat Centre
REFRESH-INTERVAL;VALUE=DURATION:PT1H
X-Robots-Tag:noindex
X-PUBLISHED-TTL:PT1H
BEGIN:VTIMEZONE
TZID:Europe/London
BEGIN:DAYLIGHT
TZOFFSETFROM:+0000
TZOFFSETTO:+0100
TZNAME:BST
DTSTART:20250330T010000
END:DAYLIGHT
BEGIN:STANDARD
TZOFFSETFROM:+0100
TZOFFSETTO:+0000
TZNAME:GMT
DTSTART:20251026T010000
END:STANDARD
BEGIN:DAYLIGHT
TZOFFSETFROM:+0000
TZOFFSETTO:+0100
TZNAME:BST
DTSTART:20260329T010000
END:DAYLIGHT
BEGIN:STANDARD
TZOFFSETFROM:+0100
TZOFFSETTO:+0000
TZNAME:GMT
DTSTART:20261025T010000
END:STANDARD
BEGIN:DAYLIGHT
TZOFFSETFROM:+0000
TZOFFSETTO:+0100
TZNAME:BST
DTSTART:20270328T010000
END:DAYLIGHT
BEGIN:STANDARD
TZOFFSETFROM:+0100
TZOFFSETTO:+0000
TZNAME:GMT
DTSTART:20271031T010000
END:STANDARD
END:VTIMEZONE
BEGIN:VEVENT
DTSTART;TZID=Europe/London:20260327T103000
DTEND;TZID=Europe/London:20260327T113000
DTSTAMP:20260422T001852
CREATED:20250527T201636Z
LAST-MODIFIED:20250527T201911Z
UID:10009347-1774607400-1774611000@lighthouseretreatcentre.org
SUMMARY:INHOUSE CREATIVE MEDITATION - Morning
DESCRIPTION:Guided Meditation for Relaxation and Peace of Mind\n  \nWeekly drop in sessions for beginners and experienced meditators.
URL:https://lighthouseretreatcentre.org/event/inhouse-creative-meditation-morning/2026-03-27/
LOCATION:Lighthouse Retreat Centre\, 99 Marine Parade\, Worthing\, BN11 3QF\, United Kingdom
CATEGORIES:Meditation
ATTACH;FMTTYPE=image/jpeg:https://lighthouseretreatcentre.org/wp-content/uploads/2021/09/meditation-friday-morning.jpg
ORGANIZER;CN="Lighthouse Retreat Centre":MAILTO:lighthouse@brahmakumaris.org
END:VEVENT
BEGIN:VEVENT
DTSTART;TZID=Europe/London:20260326T190000
DTEND;TZID=Europe/London:20260326T194500
DTSTAMP:20260422T001852
CREATED:20260302T153719Z
LAST-MODIFIED:20260302T153719Z
UID:10010613-1774551600-1774554300@lighthouseretreatcentre.org
SUMMARY:Soul Spa Meditations | Guided Online Meditations | Empowerment & Self Care Series
DESCRIPTION:Honoring My Worth: Self-Respect & Confidence: \nBuilding a strong sense of value from within.\nThe on-line guided meditations based on Raja Yoga give you the opportunity to learn practices\nthat  develop a calm and peaceful mind.\nDiscover the holistic healing power of meditation for inner peace\, health and happiness.\nMake time for a meaningful space in your day\, and reclaim your inner peace.\nClick on the ‘Join Zoom’ button below to join.\n(Zoom Meeting ID: 567 587 184\, Passcode: peace)
URL:https://lighthouseretreatcentre.org/event/soul-spa-meditations-guided-online-meditations-empowerment-self-care-series-2/2026-03-26/
LOCATION:Online
CATEGORIES:Meditation
ATTACH;FMTTYPE=image/png:https://lighthouseretreatcentre.org/wp-content/uploads/2023/08/2.png
ORGANIZER;CN="Lighthouse Retreat Centre":MAILTO:lighthouse@brahmakumaris.org
END:VEVENT
BEGIN:VEVENT
DTSTART;TZID=Europe/London:20260326T183000
DTEND;TZID=Europe/London:20260326T193000
DTSTAMP:20260422T001852
CREATED:20250527T201142Z
LAST-MODIFIED:20250527T202042Z
UID:10009087-1774549800-1774553400@lighthouseretreatcentre.org
SUMMARY:INHOUSE CREATIVE MEDITATION - Evening
DESCRIPTION:Guided Meditation for Relaxation and Peace of Mind\n  \nWeekly drop in sessions for beginners and experienced meditators.
URL:https://lighthouseretreatcentre.org/event/inhouse-creative-meditation-evening/2026-03-26/
LOCATION:Lighthouse Retreat Centre\, 99 Marine Parade\, Worthing\, BN11 3QF\, United Kingdom
CATEGORIES:Meditation
ATTACH;FMTTYPE=image/jpeg:https://lighthouseretreatcentre.org/wp-content/uploads/2021/09/meditation-friday-morning.jpg
ORGANIZER;CN="Lighthouse Retreat Centre":MAILTO:lighthouse@brahmakumaris.org
END:VEVENT
BEGIN:VEVENT
DTSTART;TZID=Europe/London:20260326T103000
DTEND;TZID=Europe/London:20260326T111500
DTSTAMP:20260422T001852
CREATED:20250530T102523Z
LAST-MODIFIED:20250530T103108Z
UID:10009607-1774521000-1774523700@lighthouseretreatcentre.org
SUMMARY:ONLINE - Morning Meditation - Values\, Virtues & Good wishes for the World
DESCRIPTION:Values taken from\nDadi Janki’s book –  365 Days of Wisdom\nprovide the basis of our conversation and meditation each week.\nJoin us in exploring the use of values in daily life and experience powerful meditation for the world.\n 
URL:https://lighthouseretreatcentre.org/event/zoom-morning-meditation-values-virtues-good-wishes-for-the-world/2026-03-26/
LOCATION:Online
CATEGORIES:Short Talk and Meditation
ATTACH;FMTTYPE=image/jpeg:https://lighthouseretreatcentre.org/wp-content/uploads/2021/09/meditation-friday-morning.jpg
ORGANIZER;CN="Lighthouse Retreat Centre":MAILTO:lighthouse@brahmakumaris.org
END:VEVENT
BEGIN:VEVENT
DTSTART;TZID=Europe/London:20260325T190000
DTEND;TZID=Europe/London:20260325T194500
DTSTAMP:20260422T001852
CREATED:20260302T153719Z
LAST-MODIFIED:20260302T153719Z
UID:10010612-1774465200-1774467900@lighthouseretreatcentre.org
SUMMARY:Soul Spa Meditations | Guided Online Meditations | Empowerment & Self Care Series
DESCRIPTION:Honoring My Worth: Self-Respect & Confidence: \nBuilding a strong sense of value from within.\nThe on-line guided meditations based on Raja Yoga give you the opportunity to learn practices\nthat  develop a calm and peaceful mind.\nDiscover the holistic healing power of meditation for inner peace\, health and happiness.\nMake time for a meaningful space in your day\, and reclaim your inner peace.\nClick on the ‘Join Zoom’ button below to join.\n(Zoom Meeting ID: 567 587 184\, Passcode: peace)
URL:https://lighthouseretreatcentre.org/event/soul-spa-meditations-guided-online-meditations-empowerment-self-care-series-2/2026-03-25/
LOCATION:Online
CATEGORIES:Meditation
ATTACH;FMTTYPE=image/png:https://lighthouseretreatcentre.org/wp-content/uploads/2023/08/2.png
ORGANIZER;CN="Lighthouse Retreat Centre":MAILTO:lighthouse@brahmakumaris.org
END:VEVENT
BEGIN:VEVENT
DTSTART;TZID=Europe/London:20260324T190000
DTEND;TZID=Europe/London:20260324T194500
DTSTAMP:20260422T001852
CREATED:20260302T153719Z
LAST-MODIFIED:20260302T153719Z
UID:10010611-1774378800-1774381500@lighthouseretreatcentre.org
SUMMARY:Soul Spa Meditations | Guided Online Meditations | Empowerment & Self Care Series
DESCRIPTION:Honoring My Worth: Self-Respect & Confidence: \nBuilding a strong sense of value from within.\nThe on-line guided meditations based on Raja Yoga give you the opportunity to learn practices\nthat  develop a calm and peaceful mind.\nDiscover the holistic healing power of meditation for inner peace\, health and happiness.\nMake time for a meaningful space in your day\, and reclaim your inner peace.\nClick on the ‘Join Zoom’ button below to join.\n(Zoom Meeting ID: 567 587 184\, Passcode: peace)
URL:https://lighthouseretreatcentre.org/event/soul-spa-meditations-guided-online-meditations-empowerment-self-care-series-2/2026-03-24/
LOCATION:Online
CATEGORIES:Meditation
ATTACH;FMTTYPE=image/png:https://lighthouseretreatcentre.org/wp-content/uploads/2023/08/2.png
ORGANIZER;CN="Lighthouse Retreat Centre":MAILTO:lighthouse@brahmakumaris.org
END:VEVENT
BEGIN:VEVENT
DTSTART;TZID=Europe/London:20260323T190000
DTEND;TZID=Europe/London:20260323T194500
DTSTAMP:20260422T001852
CREATED:20260302T153719Z
LAST-MODIFIED:20260302T153719Z
UID:10010610-1774292400-1774295100@lighthouseretreatcentre.org
SUMMARY:Soul Spa Meditations | Guided Online Meditations | Empowerment & Self Care Series
DESCRIPTION:Honoring My Worth: Self-Respect & Confidence: \nBuilding a strong sense of value from within.\nThe on-line guided meditations based on Raja Yoga give you the opportunity to learn practices\nthat  develop a calm and peaceful mind.\nDiscover the holistic healing power of meditation for inner peace\, health and happiness.\nMake time for a meaningful space in your day\, and reclaim your inner peace.\nClick on the ‘Join Zoom’ button below to join.\n(Zoom Meeting ID: 567 587 184\, Passcode: peace)
URL:https://lighthouseretreatcentre.org/event/soul-spa-meditations-guided-online-meditations-empowerment-self-care-series-2/2026-03-23/
LOCATION:Online
CATEGORIES:Meditation
ATTACH;FMTTYPE=image/png:https://lighthouseretreatcentre.org/wp-content/uploads/2023/08/2.png
ORGANIZER;CN="Lighthouse Retreat Centre":MAILTO:lighthouse@brahmakumaris.org
END:VEVENT
BEGIN:VEVENT
DTSTART;TZID=Europe/London:20260322T143000
DTEND;TZID=Europe/London:20260322T153000
DTSTAMP:20260422T001852
CREATED:20260227T153425Z
LAST-MODIFIED:20260227T153425Z
UID:10010587-1774189800-1774193400@lighthouseretreatcentre.org
SUMMARY:STREAMED ON SCREEN IN HOUSE AND ON ZOOM | A FREE MIND
DESCRIPTION:A free mind is about knowing what to hold and what to release.  \nIt’s about protecting your energy without closing your heart.  \nSpeaker – Gopi Patel
URL:https://lighthouseretreatcentre.org/event/streamed-on-screen-in-house-and-on-zoom-a-free-mind/
LOCATION:Online
CATEGORIES:Sunday Talk
ATTACH;FMTTYPE=image/png:https://lighthouseretreatcentre.org/wp-content/uploads/2023/05/3-2.png
ORGANIZER;CN="Lighthouse Retreat Centre":MAILTO:lighthouse@brahmakumaris.org
END:VEVENT
BEGIN:VEVENT
DTSTART;TZID=Europe/London:20260321T190000
DTEND;TZID=Europe/London:20260321T194500
DTSTAMP:20260422T001852
CREATED:20260302T153213Z
LAST-MODIFIED:20260302T153213Z
UID:10010609-1774119600-1774122300@lighthouseretreatcentre.org
SUMMARY:Soul Spa Meditations | Guided Online Meditations | Empowerment & Self Care Series
DESCRIPTION:Mindful Moments: Calming Stress: \nSimple techniques for daily relaxation and mental clarity\nThe on-line guided meditations based on Raja Yoga give you the opportunity to learn practices\nthat  develop a calm and peaceful mind.\nDiscover the holistic healing power of meditation for inner peace\, health and happiness.\nMake time for a meaningful space in your day\, and reclaim your inner peace.\nClick on the ‘Join Zoom’ button below to join.\n(Zoom Meeting ID: 567 587 184\, Passcode: peace)
URL:https://lighthouseretreatcentre.org/event/soul-spa-meditations-guided-online-meditations-empowerment-self-care-series/2026-03-21/
LOCATION:Online
CATEGORIES:Meditation
ATTACH;FMTTYPE=image/png:https://lighthouseretreatcentre.org/wp-content/uploads/2023/08/2.png
ORGANIZER;CN="Lighthouse Retreat Centre":MAILTO:lighthouse@brahmakumaris.org
END:VEVENT
END:VCALENDAR