BEGIN:VCALENDAR
VERSION:2.0
PRODID:-//Lighthouse Retreat Centre - ECPv6.15.20//NONSGML v1.0//EN
CALSCALE:GREGORIAN
METHOD:PUBLISH
X-ORIGINAL-URL:https://lighthouseretreatcentre.org
X-WR-CALDESC:Events for Lighthouse Retreat Centre
REFRESH-INTERVAL;VALUE=DURATION:PT1H
X-Robots-Tag:noindex
X-PUBLISHED-TTL:PT1H
BEGIN:VTIMEZONE
TZID:Europe/London
BEGIN:DAYLIGHT
TZOFFSETFROM:+0000
TZOFFSETTO:+0100
TZNAME:BST
DTSTART:20260329T010000
END:DAYLIGHT
BEGIN:STANDARD
TZOFFSETFROM:+0100
TZOFFSETTO:+0000
TZNAME:GMT
DTSTART:20261025T010000
END:STANDARD
BEGIN:DAYLIGHT
TZOFFSETFROM:+0000
TZOFFSETTO:+0100
TZNAME:BST
DTSTART:20270328T010000
END:DAYLIGHT
BEGIN:STANDARD
TZOFFSETFROM:+0100
TZOFFSETTO:+0000
TZNAME:GMT
DTSTART:20271031T010000
END:STANDARD
BEGIN:DAYLIGHT
TZOFFSETFROM:+0000
TZOFFSETTO:+0100
TZNAME:BST
DTSTART:20280326T010000
END:DAYLIGHT
BEGIN:STANDARD
TZOFFSETFROM:+0100
TZOFFSETTO:+0000
TZNAME:GMT
DTSTART:20281029T010000
END:STANDARD
END:VTIMEZONE
BEGIN:VEVENT
DTSTART;TZID=Europe/London:20270304T183000
DTEND;TZID=Europe/London:20270304T193000
DTSTAMP:20260420T204806
CREATED:20250527T201142Z
LAST-MODIFIED:20250527T202042Z
UID:10009136-1804185000-1804188600@lighthouseretreatcentre.org
SUMMARY:INHOUSE CREATIVE MEDITATION - Evening
DESCRIPTION:Guided Meditation for Relaxation and Peace of Mind\n  \nWeekly drop in sessions for beginners and experienced meditators.
URL:https://lighthouseretreatcentre.org/event/inhouse-creative-meditation-evening/2027-03-04/
LOCATION:Lighthouse Retreat Centre\, 99 Marine Parade\, Worthing\, BN11 3QF\, United Kingdom
CATEGORIES:Meditation
ATTACH;FMTTYPE=image/jpeg:https://lighthouseretreatcentre.org/wp-content/uploads/2021/09/meditation-friday-morning.jpg
ORGANIZER;CN="Lighthouse Retreat Centre":MAILTO:lighthouse@brahmakumaris.org
END:VEVENT
BEGIN:VEVENT
DTSTART;TZID=Europe/London:20270305T103000
DTEND;TZID=Europe/London:20270305T113000
DTSTAMP:20260420T204806
CREATED:20250527T201636Z
LAST-MODIFIED:20250527T201911Z
UID:10009396-1804242600-1804246200@lighthouseretreatcentre.org
SUMMARY:INHOUSE CREATIVE MEDITATION - Morning
DESCRIPTION:Guided Meditation for Relaxation and Peace of Mind\n  \nWeekly drop in sessions for beginners and experienced meditators.
URL:https://lighthouseretreatcentre.org/event/inhouse-creative-meditation-morning/2027-03-05/
LOCATION:Lighthouse Retreat Centre\, 99 Marine Parade\, Worthing\, BN11 3QF\, United Kingdom
CATEGORIES:Meditation
ATTACH;FMTTYPE=image/jpeg:https://lighthouseretreatcentre.org/wp-content/uploads/2021/09/meditation-friday-morning.jpg
ORGANIZER;CN="Lighthouse Retreat Centre":MAILTO:lighthouse@brahmakumaris.org
END:VEVENT
BEGIN:VEVENT
DTSTART;TZID=Europe/London:20270311T183000
DTEND;TZID=Europe/London:20270311T193000
DTSTAMP:20260420T204806
CREATED:20250527T201142Z
LAST-MODIFIED:20250527T202042Z
UID:10009137-1804789800-1804793400@lighthouseretreatcentre.org
SUMMARY:INHOUSE CREATIVE MEDITATION - Evening
DESCRIPTION:Guided Meditation for Relaxation and Peace of Mind\n  \nWeekly drop in sessions for beginners and experienced meditators.
URL:https://lighthouseretreatcentre.org/event/inhouse-creative-meditation-evening/2027-03-11/
LOCATION:Lighthouse Retreat Centre\, 99 Marine Parade\, Worthing\, BN11 3QF\, United Kingdom
CATEGORIES:Meditation
ATTACH;FMTTYPE=image/jpeg:https://lighthouseretreatcentre.org/wp-content/uploads/2021/09/meditation-friday-morning.jpg
ORGANIZER;CN="Lighthouse Retreat Centre":MAILTO:lighthouse@brahmakumaris.org
END:VEVENT
BEGIN:VEVENT
DTSTART;TZID=Europe/London:20270312T103000
DTEND;TZID=Europe/London:20270312T113000
DTSTAMP:20260420T204806
CREATED:20250527T201636Z
LAST-MODIFIED:20250527T201911Z
UID:10009397-1804847400-1804851000@lighthouseretreatcentre.org
SUMMARY:INHOUSE CREATIVE MEDITATION - Morning
DESCRIPTION:Guided Meditation for Relaxation and Peace of Mind\n  \nWeekly drop in sessions for beginners and experienced meditators.
URL:https://lighthouseretreatcentre.org/event/inhouse-creative-meditation-morning/2027-03-12/
LOCATION:Lighthouse Retreat Centre\, 99 Marine Parade\, Worthing\, BN11 3QF\, United Kingdom
CATEGORIES:Meditation
ATTACH;FMTTYPE=image/jpeg:https://lighthouseretreatcentre.org/wp-content/uploads/2021/09/meditation-friday-morning.jpg
ORGANIZER;CN="Lighthouse Retreat Centre":MAILTO:lighthouse@brahmakumaris.org
END:VEVENT
BEGIN:VEVENT
DTSTART;TZID=Europe/London:20270318T183000
DTEND;TZID=Europe/London:20270318T193000
DTSTAMP:20260420T204806
CREATED:20250527T201142Z
LAST-MODIFIED:20250527T202042Z
UID:10009138-1805394600-1805398200@lighthouseretreatcentre.org
SUMMARY:INHOUSE CREATIVE MEDITATION - Evening
DESCRIPTION:Guided Meditation for Relaxation and Peace of Mind\n  \nWeekly drop in sessions for beginners and experienced meditators.
URL:https://lighthouseretreatcentre.org/event/inhouse-creative-meditation-evening/2027-03-18/
LOCATION:Lighthouse Retreat Centre\, 99 Marine Parade\, Worthing\, BN11 3QF\, United Kingdom
CATEGORIES:Meditation
ATTACH;FMTTYPE=image/jpeg:https://lighthouseretreatcentre.org/wp-content/uploads/2021/09/meditation-friday-morning.jpg
ORGANIZER;CN="Lighthouse Retreat Centre":MAILTO:lighthouse@brahmakumaris.org
END:VEVENT
BEGIN:VEVENT
DTSTART;TZID=Europe/London:20270319T103000
DTEND;TZID=Europe/London:20270319T113000
DTSTAMP:20260420T204806
CREATED:20250527T201636Z
LAST-MODIFIED:20250527T201911Z
UID:10009398-1805452200-1805455800@lighthouseretreatcentre.org
SUMMARY:INHOUSE CREATIVE MEDITATION - Morning
DESCRIPTION:Guided Meditation for Relaxation and Peace of Mind\n  \nWeekly drop in sessions for beginners and experienced meditators.
URL:https://lighthouseretreatcentre.org/event/inhouse-creative-meditation-morning/2027-03-19/
LOCATION:Lighthouse Retreat Centre\, 99 Marine Parade\, Worthing\, BN11 3QF\, United Kingdom
CATEGORIES:Meditation
ATTACH;FMTTYPE=image/jpeg:https://lighthouseretreatcentre.org/wp-content/uploads/2021/09/meditation-friday-morning.jpg
ORGANIZER;CN="Lighthouse Retreat Centre":MAILTO:lighthouse@brahmakumaris.org
END:VEVENT
BEGIN:VEVENT
DTSTART;TZID=Europe/London:20270325T183000
DTEND;TZID=Europe/London:20270325T193000
DTSTAMP:20260420T204806
CREATED:20250527T201142Z
LAST-MODIFIED:20250527T202042Z
UID:10009139-1805999400-1806003000@lighthouseretreatcentre.org
SUMMARY:INHOUSE CREATIVE MEDITATION - Evening
DESCRIPTION:Guided Meditation for Relaxation and Peace of Mind\n  \nWeekly drop in sessions for beginners and experienced meditators.
URL:https://lighthouseretreatcentre.org/event/inhouse-creative-meditation-evening/2027-03-25/
LOCATION:Lighthouse Retreat Centre\, 99 Marine Parade\, Worthing\, BN11 3QF\, United Kingdom
CATEGORIES:Meditation
ATTACH;FMTTYPE=image/jpeg:https://lighthouseretreatcentre.org/wp-content/uploads/2021/09/meditation-friday-morning.jpg
ORGANIZER;CN="Lighthouse Retreat Centre":MAILTO:lighthouse@brahmakumaris.org
END:VEVENT
BEGIN:VEVENT
DTSTART;TZID=Europe/London:20270326T103000
DTEND;TZID=Europe/London:20270326T113000
DTSTAMP:20260420T204806
CREATED:20250527T201636Z
LAST-MODIFIED:20250527T201911Z
UID:10009399-1806057000-1806060600@lighthouseretreatcentre.org
SUMMARY:INHOUSE CREATIVE MEDITATION - Morning
DESCRIPTION:Guided Meditation for Relaxation and Peace of Mind\n  \nWeekly drop in sessions for beginners and experienced meditators.
URL:https://lighthouseretreatcentre.org/event/inhouse-creative-meditation-morning/2027-03-26/
LOCATION:Lighthouse Retreat Centre\, 99 Marine Parade\, Worthing\, BN11 3QF\, United Kingdom
CATEGORIES:Meditation
ATTACH;FMTTYPE=image/jpeg:https://lighthouseretreatcentre.org/wp-content/uploads/2021/09/meditation-friday-morning.jpg
ORGANIZER;CN="Lighthouse Retreat Centre":MAILTO:lighthouse@brahmakumaris.org
END:VEVENT
END:VCALENDAR